BEGIN:VCALENDAR
VERSION:2.0
CALSCALE:GREGORIAN
PRODID:-//Diputació de Barcelona//DibaCMS//EN
BEGIN:VEVENT
UID:5809
DTSTAMP:20260423T112547
DTSTART:20130215T000000
DTEND:20140215T000000
SUMMARY:La Casa de Andalucía organitza demà un nou intercanvi al Centre Cultural
LOCATION:
METHOD:PUBLISH
X-WR-CALNAME:llagosta@llagosta.cat
X-WR-TIMEZONE:Europe/Madrid
DESCRIPTION:El Centre Cultural acollirà demà un nou intercanvi cultural organitzat per la Casa de Andalucía de la Llagosta. L'acte començarà a dos quarts de vuit de la tarda.
URI:https://www.llagosta.cat/actualitat/noticies/la-casa-de-andalucia-organitza-dema-un-nou-intercanvi-al-centre-cultural.html
CLASS:PUBLIC
END:VEVENT
END:VCALENDAR
