BEGIN:VCALENDAR
VERSION:2.0
CALSCALE:GREGORIAN
PRODID:-//Diputació de Barcelona//DibaCMS//EN
BEGIN:VEVENT
UID:5808
DTSTAMP:20260422T225556
DTSTART:20130215T000000
DTEND:20140215T000000
SUMMARY:Una centena d'empleats públics i membres de les AMPA es manifesten contra les retallades
LOCATION:
METHOD:PUBLISH
X-WR-CALNAME:llagosta@llagosta.cat
X-WR-TIMEZONE:Europe/Madrid
DESCRIPTION:Prop d'un centenar de persones es van tornar a manifestar ahir pels carrers de la Llagosta en defensa dels serveis públics i contra les mesures del Govern Central i la Generalitat en matèria social i laboral. Aquesta ha estat la quarta protesta consecutiva convocada per treballadors públics de la Llagosta i les AMPA de la nostra localitat. 
URI:https://www.llagosta.cat/actualitat/noticies/una-centena-dempleats-publics-i-membres-de-les-ampa-es-manifesten-contra-les-retallades.html
CLASS:PUBLIC
END:VEVENT
END:VCALENDAR
