BEGIN:VCALENDAR
VERSION:2.0
CALSCALE:GREGORIAN
PRODID:-//Diputació de Barcelona//DibaCMS//EN
BEGIN:VEVENT
UID:5807
DTSTAMP:20260422T221701
DTSTART:20130215T000000
DTEND:20140215T000000
SUMMARY:L'Institut Marina participa un any més en el programa europeu Comenius
LOCATION:
METHOD:PUBLISH
X-WR-CALNAME:llagosta@llagosta.cat
X-WR-TIMEZONE:Europe/Madrid
DESCRIPTION:Vuit alumnes de l'Institut Marina participen aquest any al programa Comenius, que  té per objectiu reforçar la dimensió europea en l'educació i afavorir especialment la mobilitat de l'alumnat i el professorat, així com la cooperació entre els centres educatius.
URI:https://www.llagosta.cat/actualitat/noticies/linstitut-marina-participa-un-any-mes-en-el-programa-europeu-comenius.html
CLASS:PUBLIC
END:VEVENT
END:VCALENDAR
