BEGIN:VCALENDAR
VERSION:2.0
CALSCALE:GREGORIAN
PRODID:-//Diputació de Barcelona//DibaCMS//EN
BEGIN:VEVENT
UID:5806
DTSTAMP:20260422T125740
DTSTART:20130214T000000
DTEND:20140214T000000
SUMMARY:Demà, xerrada al Centre Cultural sobre el dret a l'habitatge i la bombolla immobiliària
LOCATION:
METHOD:PUBLISH
X-WR-CALNAME:llagosta@llagosta.cat
X-WR-TIMEZONE:Europe/Madrid
DESCRIPTION:El Centre Cultural de la Llagosta acollirà demà una xerrada sobre habitatge que es presenta sota el títol De la bombolla immobiliària al dret a l'habitatge. L'acte començarà a les 18.30 hores.
URI:https://www.llagosta.cat/actualitat/noticies/dema-xerrada-al-centre-cultural-sobre-el-dret-a-lhabitatge-i-la-bombolla-immobiliaria.html
CLASS:PUBLIC
END:VEVENT
END:VCALENDAR
