BEGIN:VCALENDAR
VERSION:2.0
CALSCALE:GREGORIAN
PRODID:-//Diputació de Barcelona//DibaCMS//EN
BEGIN:VEVENT
UID:5805
DTSTAMP:20260423T015006
DTSTART:20130214T000000
DTEND:20140214T000000
SUMMARY:L'equip sènior del Vallag guanya el Polinyà (29-25) i es col·loca en segona posició
LOCATION:
METHOD:PUBLISH
X-WR-CALNAME:llagosta@llagosta.cat
X-WR-TIMEZONE:Europe/Madrid
DESCRIPTION:El sènior de l'Handbol Club Vallag de la Llagosta va guanyar el cap de setmana passat el Polinyà per 29 a 25. Els de la nostra localitat s'han situat en segona posició al grup B de la Segona Catalana.
URI:https://www.llagosta.cat/actualitat/noticies/lequip-senior-del-vallag-guanya-el-polinya-29-25-i-es-colloca-en-segona-posicio.html
CLASS:PUBLIC
END:VEVENT
END:VCALENDAR
