BEGIN:VCALENDAR
VERSION:2.0
CALSCALE:GREGORIAN
PRODID:-//Diputació de Barcelona//DibaCMS//EN
BEGIN:VEVENT
UID:5804
DTSTAMP:20260423T072825
DTSTART:20130214T000000
DTEND:20140214T000000
SUMMARY:L'Institut Marina acollirà demà dos tallers organitzats pel Punt d'Informació i Dinamització
LOCATION:
METHOD:PUBLISH
X-WR-CALNAME:llagosta@llagosta.cat
X-WR-TIMEZONE:Europe/Madrid
DESCRIPTION:El Punt d'Informació i Dinamització que el Servei d'Informació Juvenil de l'Ajuntament de la Llagosta té a l'Institut Marina oferirà demà en aquest centre educatiu dos tallers subvencionats per la Diputació de Barcelona. Un tracta sobre el paper del delegat i va adreçat a delegats i subdelegats de primer i segon d'ESO. L'altre és per a un grup de 25 alumnes de 2n de Batxillerat interessats a fer cicles de grau superior. Les dues sessions es faran demà al matí a l'Institut Marina. 
URI:https://www.llagosta.cat/actualitat/noticies/linstitut-marina-acollira-dema-dos-tallers-organitzats-pel-punt-dinformacio-i-dinamitzacio.html
CLASS:PUBLIC
END:VEVENT
END:VCALENDAR
