BEGIN:VCALENDAR
VERSION:2.0
CALSCALE:GREGORIAN
PRODID:-//Diputació de Barcelona//DibaCMS//EN
BEGIN:VEVENT
UID:5803
DTSTAMP:20260422T144506
DTSTART:20130214T000000
DTEND:20140214T000000
SUMMARY:L'alcalde demana al jutjat la paralització del procés de desallotjament de Can Piella
LOCATION:
METHOD:PUBLISH
X-WR-CALNAME:llagosta@llagosta.cat
X-WR-TIMEZONE:Europe/Madrid
DESCRIPTION:L'alcalde de la Llagosta, Alberto López, ha demanat per escrit al Jutjat d'Instrucció número 3 de Cerdanyola del Vallès la paralització del procés de desallotjament cautelar de la masia de Can Piella, La carta, que també ha signat l'alcaldessa de Santa Perpètua, Isabel Garcia, demana, a més, l'arxiu del procés penal contra l'Associació per la Conservació de Can Piella.
URI:https://www.llagosta.cat/actualitat/noticies/lalcalde-demana-al-jutjat-la-paralitzacio-del-proces-de-desallotjament-de-can-piella.html
CLASS:PUBLIC
END:VEVENT
END:VCALENDAR
