BEGIN:VCALENDAR
VERSION:2.0
CALSCALE:GREGORIAN
PRODID:-//Diputació de Barcelona//DibaCMS//EN
BEGIN:VEVENT
UID:5802
DTSTAMP:20260422T204732
DTSTART:20130213T000000
DTEND:20140213T000000
SUMMARY:Un jutjat de Cerdanyola ordena el desallotjament de la masia de Can Piella 
LOCATION:
METHOD:PUBLISH
X-WR-CALNAME:llagosta@llagosta.cat
X-WR-TIMEZONE:Europe/Madrid
DESCRIPTION:El Jutjat número 3 de Cerdanyola ha notificat al col·lectiu de Can Piella que ha de desallotjar la masia com a molt tard divendres. Aquesta decisió arriba després que l'Audiència Provincial desestimés el recurs presentat contra l'ordre de desallotjament cautelar que es va dictar a l'octubre de l'any passat. 
URI:https://www.llagosta.cat/actualitat/noticies/un-jutjat-de-cerdanyola-ordena-el-desallotjament-de-la-masia-de-can-piella-.html
CLASS:PUBLIC
END:VEVENT
END:VCALENDAR
