BEGIN:VCALENDAR
VERSION:2.0
CALSCALE:GREGORIAN
PRODID:-//Diputació de Barcelona//DibaCMS//EN
BEGIN:VEVENT
UID:5801
DTSTAMP:20260422T160011
DTSTART:20130213T000000
DTEND:20140213T000000
SUMMARY:Un total de 27 llagostencs participaran demà en la passejada per Santa Coloma 
LOCATION:
METHOD:PUBLISH
X-WR-CALNAME:llagosta@llagosta.cat
X-WR-TIMEZONE:Europe/Madrid
DESCRIPTION:Demà, es farà una nova excursió del programa Esport per a tothom, passejada per a la gent gran. En aquesta ocasió, la sortida es realitzarà a Santa Coloma de Gramenet. 
URI:https://www.llagosta.cat/actualitat/noticies/un-total-de-27-llagostencs-participaran-dema-en-la-passejada-per-santa-coloma-.html
CLASS:PUBLIC
END:VEVENT
END:VCALENDAR
