BEGIN:VCALENDAR
VERSION:2.0
CALSCALE:GREGORIAN
PRODID:-//Diputació de Barcelona//DibaCMS//EN
BEGIN:VEVENT
UID:5800
DTSTAMP:20260422T180517
DTSTART:20130213T000000
DTEND:20140213T000000
SUMMARY:El CD La Concòrdia torna a la competició rebent la visita del Mont-roig
LOCATION:
METHOD:PUBLISH
X-WR-CALNAME:llagosta@llagosta.cat
X-WR-TIMEZONE:Europe/Madrid
DESCRIPTION:El Club Deportivo La Concòrdia reprendrà diumenge la competició després de descansar la setmana passada. Les de la nostra localitat rebran la visita del Mont-roig.
URI:https://www.llagosta.cat/actualitat/noticies/el-cd-la-concordia-torna-a-la-competicio-rebent-la-visita-del-mont-roig.html
CLASS:PUBLIC
END:VEVENT
END:VCALENDAR
