BEGIN:VCALENDAR
VERSION:2.0
CALSCALE:GREGORIAN
PRODID:-//Diputació de Barcelona//DibaCMS//EN
BEGIN:VEVENT
UID:5799
DTSTAMP:20260422T195922
DTSTART:20130213T000000
DTEND:20140213T000000
SUMMARY:Demà, nova activitat al Casal Infantil en el marc de la programació Casal Obert
LOCATION:
METHOD:PUBLISH
X-WR-CALNAME:llagosta@llagosta.cat
X-WR-TIMEZONE:Europe/Madrid
DESCRIPTION:L'activitat proposada pel Casal Infantil per a aquest dijous tindrà el dia dels enamorats com a punt de partida. En el marc de la programació Casal Obert, els monitors d'aquest equipament municipal organitzaran un taller d'origami, una tècnica japonesa de papiroflèxia.
URI:https://www.llagosta.cat/actualitat/noticies/dema-nova-activitat-al-casal-infantil-en-el-marc-de-la-programacio-casal-obert.html
CLASS:PUBLIC
END:VEVENT
END:VCALENDAR
