BEGIN:VCALENDAR
VERSION:2.0
CALSCALE:GREGORIAN
PRODID:-//Diputació de Barcelona//DibaCMS//EN
BEGIN:VEVENT
UID:5798
DTSTAMP:20260422T202157
DTSTART:20130213T000000
DTEND:20140213T000000
SUMMARY:Demà, nova manifestació d'empleats públics i de les AMPA de la nostra localitat
LOCATION:
METHOD:PUBLISH
X-WR-CALNAME:llagosta@llagosta.cat
X-WR-TIMEZONE:Europe/Madrid
DESCRIPTION:Empleats públics de la Llagosta i les AMPA de les escoles de la nostra localitat convoquen per a demà una nova manifestació contra les retallades que els governs de la Generalitat i de Madrid estan aplicant als serveis públics. La concentració començarà a la una del migdia a la plaça d'Antoni Baqué.
URI:https://www.llagosta.cat/actualitat/noticies/dema-nova-manifestacio-dempleats-publics-i-de-les-ampa-de-la-nostra-localitat.html
CLASS:PUBLIC
END:VEVENT
END:VCALENDAR
