BEGIN:VCALENDAR
VERSION:2.0
CALSCALE:GREGORIAN
PRODID:-//Diputació de Barcelona//DibaCMS//EN
BEGIN:VEVENT
UID:5797
DTSTAMP:20260423T041214
DTSTART:20130212T000000
DTEND:20140212T000000
SUMMARY:Ja està oberta la inscripció per participar a la 26a Cursa Popular Els 10 de la Llagosta
LOCATION:
METHOD:PUBLISH
X-WR-CALNAME:llagosta@llagosta.cat
X-WR-TIMEZONE:Europe/Madrid
DESCRIPTION:El Club Esportiu Fondistes de la Llagosta i l'Ajuntament de la nostra localitat van presentar ahir la 26a Cursa Popular Els 10 de la Llagosta. A la cursa podran participar enguany 1.100 atletes, 100 més que en edicions anteriors. Les inscripcions ja estan obertes al bloc de l'entitat.
URI:https://www.llagosta.cat/actualitat/noticies/ja-esta-oberta-la-inscripcio-per-participar-a-la-26a-cursa-popular-els-10-de-la-llagosta.html
CLASS:PUBLIC
END:VEVENT
END:VCALENDAR
