BEGIN:VCALENDAR
VERSION:2.0
CALSCALE:GREGORIAN
PRODID:-//Diputació de Barcelona//DibaCMS//EN
BEGIN:VEVENT
UID:5796
DTSTAMP:20260423T114058
DTSTART:20130212T000000
DTEND:20140212T000000
SUMMARY:El llagostenc Antonio García Robledo rep la medalla d'or del Mèrit Esportiu
LOCATION:
METHOD:PUBLISH
X-WR-CALNAME:llagosta@llagosta.cat
X-WR-TIMEZONE:Europe/Madrid
DESCRIPTION:El Rei va lliurar ahir la medalla d'or del Mèrit Esportiu als integrants de la selecció espanyola d'handbol, entre els quals es trobava el llagostenc Antonio García, per haver guanyat el Campionat del món. Don Juan Carlos va distingir amb aquesta condecoració als components del combinat espanyol durant una audiència al Palacio de la Zarzuela. El Rei va agrair la tasca dels jugadors i tècnics. Els Reis i els prínceps d'Astúries van saludar personalment a tots abans de lliurar-los la medalla. 
URI:https://www.llagosta.cat/actualitat/noticies/el-llagostenc-antonio-garcia-robledo-rep-la-medalla-dor-del-merit-esportiu.html
CLASS:PUBLIC
END:VEVENT
END:VCALENDAR
