BEGIN:VCALENDAR
VERSION:2.0
CALSCALE:GREGORIAN
PRODID:-//Diputació de Barcelona//DibaCMS//EN
BEGIN:VEVENT
UID:5795
DTSTAMP:20260422T130218
DTSTART:20130212T000000
DTEND:20140202T000000
SUMMARY:El Centre Cultural va acollir la presentació del segon quadrimestre dels cursos de català
LOCATION:
METHOD:PUBLISH
X-WR-CALNAME:llagosta@llagosta.cat
X-WR-TIMEZONE:Europe/Madrid
DESCRIPTION:La importància de la formació en aquest moment de crisi i la funció de cohesió social del programa Voluntariat per la Llengua van ser les qüestions més destacades que es van tractar durant la presentació del segon quadrimestre del curs 2012-2013 organitzat per l'Oficina de Català de la Llagosta. L'acte es va fer ahir al vespre al Centre Cultural.
URI:https://www.llagosta.cat/actualitat/noticies/el-centre-cultural-va-acollir-la-presentacio-del-segon-quadrimestre-dels-cursos-de-catala.html
CLASS:PUBLIC
END:VEVENT
END:VCALENDAR
