BEGIN:VCALENDAR
VERSION:2.0
CALSCALE:GREGORIAN
PRODID:-//Diputació de Barcelona//DibaCMS//EN
BEGIN:VEVENT
UID:5794
DTSTAMP:20260422T112851
DTSTART:20130212T000000
DTEND:20140212T000000
SUMMARY:El Viejas Glorias es desplaçarà el proper cap de setmana al camp del Sant Quirze
LOCATION:
METHOD:PUBLISH
X-WR-CALNAME:llagosta@llagosta.cat
X-WR-TIMEZONE:Europe/Madrid
DESCRIPTION:El Club Deportivo Viejas Glorias es desplaçarà el proper cap de setmana al camp del Sant Quirze. Els dos equips estan empatats a la classificació amb 24 punts. El Sant Quirze és setè i el Viejas Glorias, vuitè.
URI:https://www.llagosta.cat/actualitat/noticies/el-viejas-glorias-es-desplacara-el-proper-cap-de-setmana-al-camp-del-sant-quirze.html
CLASS:PUBLIC
END:VEVENT
END:VCALENDAR
