BEGIN:VCALENDAR
VERSION:2.0
CALSCALE:GREGORIAN
PRODID:-//Diputació de Barcelona//DibaCMS//EN
BEGIN:VEVENT
UID:5793
DTSTAMP:20260422T070425
DTSTART:20130211T000000
DTEND:20140211T000000
SUMMARY:La Llagosta va celebrar dissabte la festa de Carnaval amb una gran participació
LOCATION:
METHOD:PUBLISH
X-WR-CALNAME:llagosta@llagosta.cat
X-WR-TIMEZONE:Europe/Madrid
DESCRIPTION:El Circ du La Room, en comparses, i Campanilla, en individuals, van ser els guanyadors del concurs de disfresses que va organitzar l'Ajuntament de la Llagosta dissabte amb motiu de la festa de Carnaval. La celebració va comptar amb una gran participació. 
URI:https://www.llagosta.cat/actualitat/noticies/la-llagosta-va-celebrar-dissabte-la-festa-de-carnaval-amb-una-gran-participacio.html
CLASS:PUBLIC
END:VEVENT
END:VCALENDAR
