BEGIN:VCALENDAR
VERSION:2.0
CALSCALE:GREGORIAN
PRODID:-//Diputació de Barcelona//DibaCMS//EN
BEGIN:VEVENT
UID:5792
DTSTAMP:20260422T135403
DTSTART:20130211T000000
DTEND:20140211T000000
SUMMARY:L'entitat La Llagosta + Activa organitza dos tallers oberts a tota la població
LOCATION:
METHOD:PUBLISH
X-WR-CALNAME:llagosta@llagosta.cat
X-WR-TIMEZONE:Europe/Madrid
DESCRIPTION:L'entitat La Llagosta + Activa organitzarà durant les properes setmanes dos tallers adreçats a tota la població. El 21 de febrer tindrà lloc un taller de sembra de llavors i el dia 26 començarà un sobre ritmes.
URI:https://www.llagosta.cat/actualitat/noticies/lentitat-la-llagosta--activa-organitza-dos-tallers-oberts-a-tota-la-poblacio.html
CLASS:PUBLIC
END:VEVENT
END:VCALENDAR
