BEGIN:VCALENDAR
VERSION:2.0
CALSCALE:GREGORIAN
PRODID:-//Diputació de Barcelona//DibaCMS//EN
BEGIN:VEVENT
UID:5791
DTSTAMP:20260422T124143
DTSTART:20130211T000000
DTEND:20140211T000000
SUMMARY:Un habitatge del carrer de Sant Josep, afectat per un curtcircuit la nit de dissabte
LOCATION:
METHOD:PUBLISH
X-WR-CALNAME:llagosta@llagosta.cat
X-WR-TIMEZONE:Europe/Madrid
DESCRIPTION:Dues dotacions dels Bombers de la Generalitat es van desplaçar dissabte per la nit a la nostra localitat a conseqüència d'un curtcircuit que es va produir en un habitatge situat en el número 15 del carrer de Sant Josep. L'incident va tenir lloc aproximadament a tres quarts de dotze de la nit, quan no hi havia ningú a la casa, segons va comprovar, en un primer moment, la Policia Local.
URI:https://www.llagosta.cat/actualitat/noticies/un-habitatge-del-carrer-de-sant-josep-afectat-per-un-curtcircuit-la-nit-de-dissabte.html
CLASS:PUBLIC
END:VEVENT
END:VCALENDAR
