BEGIN:VCALENDAR
VERSION:2.0
CALSCALE:GREGORIAN
PRODID:-//Diputació de Barcelona//DibaCMS//EN
BEGIN:VEVENT
UID:5790
DTSTAMP:20260422T200122
DTSTART:20130211T000000
DTEND:20140211T000000
SUMMARY:El Fútbol Sala Unión Llagostense jugarà la propera jornada a casa contra el darrer classificat
LOCATION:
METHOD:PUBLISH
X-WR-CALNAME:llagosta@llagosta.cat
X-WR-TIMEZONE:Europe/Madrid
DESCRIPTION:El primer equip del Fútbol Sala Unión Llagostense rebrà la propera jornada la visita del darrer classificat, el Futsal Plata de Gràcia, després del descans del cap de setmana passat. Els llagostencs, que van perdre el darrer partit a la pista del Cardedeu per 7 a 5, ocupen la cinquena posició amb 27 punts, a set del líder, l'Esplais. 
URI:https://www.llagosta.cat/actualitat/noticies/el-futbol-sala-union-llagostense-jugara-la-propera-jornada-a-casa-contra-el-darrer-classificat.html
CLASS:PUBLIC
END:VEVENT
END:VCALENDAR
