BEGIN:VCALENDAR
VERSION:2.0
CALSCALE:GREGORIAN
PRODID:-//Diputació de Barcelona//DibaCMS//EN
BEGIN:VEVENT
UID:5789
DTSTAMP:20260423T060831
DTSTART:20130208T000000
DTEND:20140208T000000
SUMMARY:El Casal Infantil va fer ahir el seu Carnaval particular amb diversos racons
LOCATION:
METHOD:PUBLISH
X-WR-CALNAME:llagosta@llagosta.cat
X-WR-TIMEZONE:Europe/Madrid
DESCRIPTION:Totes les famílies que van participar ahir al Casal Obert van gaudir dels racons habituals: ludoteca, joc simbòlic, dibuix i lectura... i racons especials de maquillatge i disfresses per a aquesta ocasió. Grans i petits es van disfressar una bona estona en un racó ple de tot tipus de disfresses i complements, escalfant motors per a la festa infantil d'aquesta tarda. 
URI:https://www.llagosta.cat/actualitat/noticies/el-casal-infantil-va-fer-ahir-el-seu-carnaval-particular-amb-diversos-racons.html
CLASS:PUBLIC
END:VEVENT
END:VCALENDAR
