BEGIN:VCALENDAR
VERSION:2.0
CALSCALE:GREGORIAN
PRODID:-//Diputació de Barcelona//DibaCMS//EN
BEGIN:VEVENT
UID:5788
DTSTAMP:20260422T122645
DTSTART:20130208T000000
DTEND:20140208T000000
SUMMARY:La Llagosta celebrarà demà la festa de Carnaval amb una rua i un ball amb disco mòbil
LOCATION:
METHOD:PUBLISH
X-WR-CALNAME:llagosta@llagosta.cat
X-WR-TIMEZONE:Europe/Madrid
DESCRIPTION:Demà, se celebrarà a la nostra localitat la festa de Carnestoltes. Enguany, es recupera la rua pels carrers de la Llagosta. La trobada dels participants al concurs de disfresses i de tothom que ho desitgi serà a les cinc de la tarda a la plaça d'Antoni Baqué.
URI:https://www.llagosta.cat/actualitat/noticies/la-llagosta-celebrara-dema-la-festa-de-carnaval-amb-una-rua-i-un-ball-amb-disco-mobil.html
CLASS:PUBLIC
END:VEVENT
END:VCALENDAR
