BEGIN:VCALENDAR
VERSION:2.0
CALSCALE:GREGORIAN
PRODID:-//Diputació de Barcelona//DibaCMS//EN
BEGIN:VEVENT
UID:5787
DTSTAMP:20260422T123503
DTSTART:20130208T000000
DTEND:20140208T000000
SUMMARY:El CD La Concòrdia empata a la pista del Teià i es manté en cinquena posició
LOCATION:
METHOD:PUBLISH
X-WR-CALNAME:llagosta@llagosta.cat
X-WR-TIMEZONE:Europe/Madrid
DESCRIPTION:El Club Deportivo La Concòrdia va empatar a un gol el cap de setmana passat a la pista del Teià, un dels seus principals rivals a la classificació. Les de la nostra localitat es mantenen en cinquè lloc a la taula.
URI:https://www.llagosta.cat/actualitat/noticies/el-cd-la-concordia-empata-a-la-pista-del-teia-i-es-mante-en-cinquena-posicio.html
CLASS:PUBLIC
END:VEVENT
END:VCALENDAR
