BEGIN:VCALENDAR
VERSION:2.0
CALSCALE:GREGORIAN
PRODID:-//Diputació de Barcelona//DibaCMS//EN
BEGIN:VEVENT
UID:5786
DTSTAMP:20260422T123142
DTSTART:20130208T000000
DTEND:20140208T000000
SUMMARY:El Grup de Ball de Gitanes de la Llagosta actuarà diumenge a Montmeló
LOCATION:
METHOD:PUBLISH
X-WR-CALNAME:llagosta@llagosta.cat
X-WR-TIMEZONE:Europe/Madrid
DESCRIPTION:El Grup de Ball de Gitanes de la Llagosta assistirà diumenge a la primera ballada d'aquesta nova temporada. En concret, les dues colles de l'entitat aniran a Montmeló.
URI:https://www.llagosta.cat/actualitat/noticies/el-grup-de-ball-de-gitanes-de-la-llagosta-actuara-diumenge-a-montmelo.html
CLASS:PUBLIC
END:VEVENT
END:VCALENDAR
