BEGIN:VCALENDAR
VERSION:2.0
CALSCALE:GREGORIAN
PRODID:-//Diputació de Barcelona//DibaCMS//EN
BEGIN:VEVENT
UID:5785
DTSTAMP:20260423T080846
DTSTART:20130208T000000
DTEND:20140208T000000
SUMMARY:Dilluns, tindrà lloc la presentació del segon quadrimestre del curs de l'Oficina de Català
LOCATION:
METHOD:PUBLISH
X-WR-CALNAME:llagosta@llagosta.cat
X-WR-TIMEZONE:Europe/Madrid
DESCRIPTION:L'Oficina de Català de la Llagosta farà dilluns la presentació del segon quadrimestre del curs 2012-2013 i de l'edició número 18 del Voluntariat per la Llengua. L'acte se celebrarà a partir de les 19.30 hores al Centre Cultural i comptarà amb l'assistència de l'alcalde, Alberto López; la regidora d'Educació, Virgínia Jiménez; i la presidenta del Consell de Centre del Centre de Normalització Lingüística del Vallès Oriental, Pietat Sanjuán.
URI:https://www.llagosta.cat/actualitat/noticies/dilluns-tindra-lloc-la-presentacio-del-segon-quadrimestre-del-curs-de-loficina-de-catala.html
CLASS:PUBLIC
END:VEVENT
END:VCALENDAR
