BEGIN:VCALENDAR
VERSION:2.0
CALSCALE:GREGORIAN
PRODID:-//Diputació de Barcelona//DibaCMS//EN
BEGIN:VEVENT
UID:5784
DTSTAMP:20260423T011622
DTSTART:20130208T000000
DTEND:20140208T000000
SUMMARY:L'acte de presentació de la 26a Cursa Popular de la Llagosta se celebrarà dilluns
LOCATION:
METHOD:PUBLISH
X-WR-CALNAME:llagosta@llagosta.cat
X-WR-TIMEZONE:Europe/Madrid
DESCRIPTION:La sala de plens de l'Ajuntament de la Llagosta acollirà dilluns, a partir de les sis de la tarda, la presentació de l'edició número 26 de la Cursa Popular Els 10 de la Llagosta. L'acte comptarà amb la presència de l'alcalde, Alberto López; el regidor d'Esports, Jesús Ríos; i el president del Club Esportiu Fondistes de la Llagosta, Jordi Jiménez. 
URI:https://www.llagosta.cat/actualitat/noticies/lacte-de-presentacio-de-la-26a-cursa-popular-de-la-llagosta-se-celebrara-dilluns.html
CLASS:PUBLIC
END:VEVENT
END:VCALENDAR
