BEGIN:VCALENDAR
VERSION:2.0
CALSCALE:GREGORIAN
PRODID:-//Diputació de Barcelona//DibaCMS//EN
BEGIN:VEVENT
UID:5783
DTSTAMP:20260422T070350
DTSTART:20130207T000000
DTEND:20140207T000000
SUMMARY:La majoria d'alumnes de l'Institut Marina secunden les tres jornades de vaga
LOCATION:
METHOD:PUBLISH
X-WR-CALNAME:llagosta@llagosta.cat
X-WR-TIMEZONE:Europe/Madrid
DESCRIPTION:Els alumnes de l'Institut Marina de la Llagosta han secundat les jornades de vaga d'aquests tres darrers dies. La convocatòria, realitzada pels sindicats d'estudiants, es va iniciar dimarts contra la reforma educativa que està plantejant el Ministeri d'Educació i en protesta per les retallades diverses aplicades tant pel Govern Central com per la Generalitat.
URI:https://www.llagosta.cat/actualitat/noticies/la-majoria-dalumnes-de-linstitut-marina-secunden-les-tres-jornades-de-vaga.html
CLASS:PUBLIC
END:VEVENT
END:VCALENDAR
