BEGIN:VCALENDAR
VERSION:2.0
CALSCALE:GREGORIAN
PRODID:-//Diputació de Barcelona//DibaCMS//EN
BEGIN:VEVENT
UID:5782
DTSTAMP:20260423T015316
DTSTART:20130207T000000
DTEND:20140207T000000
SUMMARY:La Llagosta celebrarà demà el Carnestoltes Infantil amb diversos actes
LOCATION:
METHOD:PUBLISH
X-WR-CALNAME:llagosta@llagosta.cat
X-WR-TIMEZONE:Europe/Madrid
DESCRIPTION:Demà, se celebrarà a la nostra localitat el Carnestoltes Infantil. La rua pels carrers de la Llagosta, una festa familiar i una disco jove al Complex Esportiu Municipal El Turó són els actes programats.
URI:https://www.llagosta.cat/actualitat/noticies/la-llagosta-celebrara-dema-el-carnestoltes-infantil-amb-diversos-actes.html
CLASS:PUBLIC
END:VEVENT
END:VCALENDAR
