BEGIN:VCALENDAR
VERSION:2.0
CALSCALE:GREGORIAN
PRODID:-//Diputació de Barcelona//DibaCMS//EN
BEGIN:VEVENT
UID:5781
DTSTAMP:20260422T070456
DTSTART:20130207T000000
DTEND:20140207T000000
SUMMARY:El nombre d'aturats de la Llagosta es va incrementar en 30 persones durant el gener
LOCATION:
METHOD:PUBLISH
X-WR-CALNAME:llagosta@llagosta.cat
X-WR-TIMEZONE:Europe/Madrid
DESCRIPTION:L'atur al gener es va incrementar en 30 persones a la Llagosta. Això suposa que el primer mes d'aquest any hi havia al nostre municipi 1.556 persones registrades a l'Oficina de Treball de la Generalitat, un 22,01% de la població activa.
URI:https://www.llagosta.cat/actualitat/noticies/el-nombre-daturats-de-la-llagosta-es-va-incrementar-en-30-persones-durant-el-gener.html
CLASS:PUBLIC
END:VEVENT
END:VCALENDAR
