BEGIN:VCALENDAR
VERSION:2.0
CALSCALE:GREGORIAN
PRODID:-//Diputació de Barcelona//DibaCMS//EN
BEGIN:VEVENT
UID:5780
DTSTAMP:20260423T071847
DTSTART:20130207T000000
DTEND:20140207T000000
SUMMARY:El sènior de l'EBC perd el quart partit seguit a la pista del Llinars (75-37)
LOCATION:
METHOD:PUBLISH
X-WR-CALNAME:llagosta@llagosta.cat
X-WR-TIMEZONE:Europe/Madrid
DESCRIPTION:El primer equip de l'Esportiu Bàsquet Club de la Llagosta va patir el cap de setmana passat una nova derrota. Els de la nostra localitat van caure per un clar 75 a 37 a la pista del Llinars. La propera jornada, l'EBC visitarà la Garriga B.
URI:https://www.llagosta.cat/actualitat/noticies/el-senior-de-lebc-perd-el-quart-partit-seguit-a-la-pista-del-llinars-75-37.html
CLASS:PUBLIC
END:VEVENT
END:VCALENDAR
