BEGIN:VCALENDAR
VERSION:2.0
CALSCALE:GREGORIAN
PRODID:-//Diputació de Barcelona//DibaCMS//EN
BEGIN:VEVENT
UID:5779
DTSTAMP:20260423T120548
DTSTART:20130207T000000
DTEND:20140227T000000
SUMMARY:Avui es distribueix el Butlletí d'Informació Municipal del mes de febrer
LOCATION:
METHOD:PUBLISH
X-WR-CALNAME:llagosta@llagosta.cat
X-WR-TIMEZONE:Europe/Madrid
DESCRIPTION:L'Ajuntament de la Llagosta distribueix avui el Butlletí d'Informació Municipal del mes de febrer. La publicació recull en portada tota la informació sobre la recepció oficial campió del món Antonio García. La contraportada està dedicada al cartell de la festa de Carnaval.
URI:https://www.llagosta.cat/actualitat/noticies/avui-es-distribueix-el-butlleti-dinformacio-municipal-del-mes-de-febrer.html
CLASS:PUBLIC
END:VEVENT
END:VCALENDAR
