BEGIN:VCALENDAR
VERSION:2.0
CALSCALE:GREGORIAN
PRODID:-//Diputació de Barcelona//DibaCMS//EN
BEGIN:VEVENT
UID:5778
DTSTAMP:20260423T111051
DTSTART:20130206T000000
DTEND:20140206T000000
SUMMARY:El conjunt sènior de l'Handbol Club Vallag derrota el Sant Joan Despí B per 23 a 31
LOCATION:
METHOD:PUBLISH
X-WR-CALNAME:llagosta@llagosta.cat
X-WR-TIMEZONE:Europe/Madrid
DESCRIPTION:El sènior de l'Handbol Club Vallag de la Llagosta va guanyar la jornada passada per 23 a 32 el Sant Joan Despí B. Els de la nostra localitat continuen en cinquena posició, a només dos punts del líder, la Salle Bonanova B.
URI:https://www.llagosta.cat/actualitat/noticies/el-conjunt-senior-de-lhandbol-club-vallag-derrota-el-sant-joan-despi-b-per-23-a-31.html
CLASS:PUBLIC
END:VEVENT
END:VCALENDAR
