BEGIN:VCALENDAR
VERSION:2.0
CALSCALE:GREGORIAN
PRODID:-//Diputació de Barcelona//DibaCMS//EN
BEGIN:VEVENT
UID:5777
DTSTAMP:20260423T075532
DTSTART:20130206T000000
DTEND:20140205T000000
SUMMARY:Arcadi Oliveres va parlar ahir sobre la crisi en un acte organitzat per l'Escola d'Adults
LOCATION:
METHOD:PUBLISH
X-WR-CALNAME:llagosta@llagosta.cat
X-WR-TIMEZONE:Europe/Madrid
DESCRIPTION:El president de Justícia i Pau, l'economista i activista social Arcadi Oliveres, va assegurar ahir a la Llagosta que no se sortirà mai de la crisi si no es canvia radicalment de sistema econòmic. En una conferència organitzada al Centre Cultural pel Centre de Formació d'Adults de la Llagosta, Oliveres es va mostrar molt crític amb el capitalisme i va dir que és un sistema criminal que ha de desaparèixer.
URI:https://www.llagosta.cat/actualitat/noticies/arcadi-oliveres-va-parlar-ahir-sobre-la-crisi-en-un-acte-organitzat-per-lescola-dadults.html
CLASS:PUBLIC
END:VEVENT
END:VCALENDAR
