BEGIN:VCALENDAR
VERSION:2.0
CALSCALE:GREGORIAN
PRODID:-//Diputació de Barcelona//DibaCMS//EN
BEGIN:VEVENT
UID:5776
DTSTAMP:20260422T161029
DTSTART:20130206T000000
DTEND:20140205T000000
SUMMARY:La Llagosta i Santa Perpètua presenten el projecte Logis Riera de Caldes a Ferrmed
LOCATION:
METHOD:PUBLISH
X-WR-CALNAME:llagosta@llagosta.cat
X-WR-TIMEZONE:Europe/Madrid
DESCRIPTION:L'alcaldessa de Santa Perpètua de Mogoda, Isabel Garcia, i l'alcalde de la Llagosta, Alberto López, van presentar ahir al secretari general de l'associació Ferrmed, Joan Amorós, el projecte Logis Riera de Caldes, que emmarca la col·laboració público-privada com a eina de treball per a la dinamització logística a cinc municipis de l'eix de la riera de Caldes (Santa Perpètua, La Llagosta, Polinyà, Palau-solità i Plegamans i Sentmenat). La reunió va tenir lloc a l'edifici administratiu de l'Ajuntament de la Llagosta.
URI:https://www.llagosta.cat/actualitat/noticies/la-llagosta-i-santa-perpetua-presenten-el-projecte-logis-riera-de-caldes-a-ferrmed.html
CLASS:PUBLIC
END:VEVENT
END:VCALENDAR
