BEGIN:VCALENDAR
VERSION:2.0
CALSCALE:GREGORIAN
PRODID:-//Diputació de Barcelona//DibaCMS//EN
BEGIN:VEVENT
UID:5775
DTSTAMP:20260423T014655
DTSTART:20130205T000000
DTEND:20140205T000000
SUMMARY:El Viejas Glorias suma la primera victòria del 2013 en derrotar la Planada (3-4)
LOCATION:
METHOD:PUBLISH
X-WR-CALNAME:llagosta@llagosta.cat
X-WR-TIMEZONE:Europe/Madrid
DESCRIPTION:El Club Deportivo Viejas Glorias va aconseguir el cap de setmana passat la primera victòria de l'any 2013 després de derrotar per 3 a 4 la Planada. Els de la nostra localitat van haver de lluitar molt per sumar els tres punts, ja que al minut 10 perdien per 2 a 0. 
URI:https://www.llagosta.cat/actualitat/noticies/el-viejas-glorias-suma-la-primera-victoria-del-2013-en-derrotar-la-planada-3-4.html
CLASS:PUBLIC
END:VEVENT
END:VCALENDAR
