BEGIN:VCALENDAR
VERSION:2.0
CALSCALE:GREGORIAN
PRODID:-//Diputació de Barcelona//DibaCMS//EN
BEGIN:VEVENT
UID:5774
DTSTAMP:20260423T072145
DTSTART:20130205T000000
DTEND:20140205T000000
SUMMARY:L'Ajuntament demana una subvenció per comprar dues motos elèctriques per a la Policia
LOCATION:
METHOD:PUBLISH
X-WR-CALNAME:llagosta@llagosta.cat
X-WR-TIMEZONE:Europe/Madrid
DESCRIPTION:La Junta de Govern Local de l'Ajuntament de la Llagosta ha acordat sol·licitar una subvenció al Departament de Territori i Sostenibilitat de la Generalitat per adquirir dues motocicletes elèctriques per a la Policia Local. L'Ajuntament ha previst invertir 12.816,32 euros per comprar les dues motos i la subvenció que se sol·licita és per finançar el 40% del seu cost.
URI:https://www.llagosta.cat/actualitat/noticies/lajuntament-demana-una-subvencio-per-comprar-dues-motos-electriques-per-a-la-policia.html
CLASS:PUBLIC
END:VEVENT
END:VCALENDAR
