BEGIN:VCALENDAR
VERSION:2.0
CALSCALE:GREGORIAN
PRODID:-//Diputació de Barcelona//DibaCMS//EN
BEGIN:VEVENT
UID:5773
DTSTAMP:20260422T235817
DTSTART:20130205T000000
DTEND:20140205T000000
SUMMARY:L'equip sènior del Joventut Handbol guanya a Cerdanyola en un partit molt complicat
LOCATION:
METHOD:PUBLISH
X-WR-CALNAME:llagosta@llagosta.cat
X-WR-TIMEZONE:Europe/Madrid
DESCRIPTION:El sènior del Joventut Handbol La Llagosta va guanyar la jornada passada a la pista del Cerdanyola per 22 a 24. El partit va ser molt igualat i es va decidir en els darrers moments pel major encert dels llagostencs tant a la porteria com en atac.
URI:https://www.llagosta.cat/actualitat/noticies/lequip-senior-del-joventut-handbol-guanya-a-cerdanyola-en-un-partit-molt-complicat.html
CLASS:PUBLIC
END:VEVENT
END:VCALENDAR
