BEGIN:VCALENDAR
VERSION:2.0
CALSCALE:GREGORIAN
PRODID:-//Diputació de Barcelona//DibaCMS//EN
BEGIN:VEVENT
UID:5772
DTSTAMP:20260423T145147
DTSTART:20130204T000000
DTEND:20140204T000000
SUMMARY:El Fútbol Sala Unión Llagostense perd a la pista del Cardedeu per 7 gols a 5
LOCATION:
METHOD:PUBLISH
X-WR-CALNAME:llagosta@llagosta.cat
X-WR-TIMEZONE:Europe/Madrid
DESCRIPTION:El primer equip del Fútbol Sala Unión Llagostense va perdre el cap de setmana per 7 a 5 a la pista del Cardedeu. Els llagostencs no han guanyat encara cap partit aquest 2013. 
URI:https://www.llagosta.cat/actualitat/noticies/el-futbol-sala-union-llagostense-perd-a-la-pista-del-cardedeu-per-7-gols-a-5.html
CLASS:PUBLIC
END:VEVENT
END:VCALENDAR
