BEGIN:VCALENDAR
VERSION:2.0
CALSCALE:GREGORIAN
PRODID:-//Diputació de Barcelona//DibaCMS//EN
BEGIN:VEVENT
UID:5771
DTSTAMP:20260423T092137
DTSTART:20130204T000000
DTEND:20140203T000000
SUMMARY:L'economista Arcadi Oliveres parlarà demà sobre la crisi al Centre Cultural
LOCATION:
METHOD:PUBLISH
X-WR-CALNAME:llagosta@llagosta.cat
X-WR-TIMEZONE:Europe/Madrid
DESCRIPTION:El Centre de Formació d'Adults de la Llagosta organitzarà demà una conferència amb el títol de La crisi: actualitat i perspectives de futur. La xerrada anirà a càrrec de l'economista i activista social Arcadi Oliveres i començarà a les 17.45 hores. L'acte és obert a tota la ciutadania i forma part del cicle de conferències del Centre de Formació d'Adults de la nostra localitat del curs 2012-2013.
URI:https://www.llagosta.cat/actualitat/noticies/leconomista-arcadi-oliveres-parlara-dema-sobre-la-crisi-al-centre-cultural.html
CLASS:PUBLIC
END:VEVENT
END:VCALENDAR
