BEGIN:VCALENDAR
VERSION:2.0
CALSCALE:GREGORIAN
PRODID:-//Diputació de Barcelona//DibaCMS//EN
BEGIN:VEVENT
UID:5770
DTSTAMP:20260423T013637
DTSTART:20130204T000000
DTEND:20140204T000000
SUMMARY:Oberta la inscripció fins divendres per als cursos de l'Oficina de Català de la Llagosta
LOCATION:
METHOD:PUBLISH
X-WR-CALNAME:llagosta@llagosta.cat
X-WR-TIMEZONE:Europe/Madrid
DESCRIPTION:L'Oficina de Català de la Llagosta ha obert avui un nou període d'inscripcions per assistir als diferents cursos presencials corresponents al segon quadrimestre. Les persones interessades s'han adreçar a aquest servei, que està situat a la planta baixa de l'edifici que l'Ajuntament té al passeig del Pintor Sert 2-4 fins divendres, dia 8 de febrer, de dilluns a dijous de 10 a 13 hores i de 16.30 a 19 hores, i el divendres de 10 a 13 hores.
URI:https://www.llagosta.cat/actualitat/noticies/oberta-la-inscripcio-fins-divendres-per-als-cursos-de-loficina-de-catala-de-la-llagosta.html
CLASS:PUBLIC
END:VEVENT
END:VCALENDAR
