BEGIN:VCALENDAR
VERSION:2.0
CALSCALE:GREGORIAN
PRODID:-//Diputació de Barcelona//DibaCMS//EN
BEGIN:VEVENT
UID:5769
DTSTAMP:20260423T120255
DTSTART:20130204T000000
DTEND:20140204T000000
SUMMARY:L'Ajuntament contracta una empresa per fer el manteniment de la gespa del camp de futbol
LOCATION:
METHOD:PUBLISH
X-WR-CALNAME:llagosta@llagosta.cat
X-WR-TIMEZONE:Europe/Madrid
DESCRIPTION:La Junta de Govern Local de l'Ajuntament de la Llagosta ha acordat contractar l'empresa Renovacions Tecnològiques Esportives per fer el manteniment i neteja de la gespa artificial del Camp Municipal de Futbol Joan Gelabert. El cost dels treballs és de 2.789,05 euros.
URI:https://www.llagosta.cat/actualitat/noticies/lajuntament-contracta-una-empresa-per-fer-el-manteniment-de-la-gespa-del-camp-de-futbol.html
CLASS:PUBLIC
END:VEVENT
END:VCALENDAR
