BEGIN:VCALENDAR
VERSION:2.0
CALSCALE:GREGORIAN
PRODID:-//Diputació de Barcelona//DibaCMS//EN
BEGIN:VEVENT
UID:5768
DTSTAMP:20260424T020531
DTSTART:20130201T000000
DTEND:20140201T000000
SUMMARY:El ple de l'Ajuntament reconeix els mèrits esportius del campió del món Antonio García
LOCATION:
METHOD:PUBLISH
X-WR-CALNAME:llagosta@llagosta.cat
X-WR-TIMEZONE:Europe/Madrid
DESCRIPTION:El ple de l'Ajuntament de la Llagosta va aprovar ahir per assentiment una declaració institucional per reconèixer la carrera esportiva d'Antonio García Robledo, campió del món d'handbol. La declaració indica que el Poliesportiu Riera Seca passarà a portar el nom de l'esportista llagostenc.
URI:https://www.llagosta.cat/actualitat/noticies/el-ple-de-lajuntament-reconeix-els-merits-esportius-del-campio-del-mon-antonio-garcia.html
CLASS:PUBLIC
END:VEVENT
END:VCALENDAR
