BEGIN:VCALENDAR
VERSION:2.0
CALSCALE:GREGORIAN
PRODID:-//Diputació de Barcelona//DibaCMS//EN
BEGIN:VEVENT
UID:5767
DTSTAMP:20260423T203346
DTSTART:20130201T000000
DTEND:20140201T000000
SUMMARY:El sènior de l'EBC jugarà contra el Llinars després de perdre a casa amb el líder
LOCATION:
METHOD:PUBLISH
X-WR-CALNAME:llagosta@llagosta.cat
X-WR-TIMEZONE:Europe/Madrid
DESCRIPTION:El primer equip de l'Esportiu Bàsquet Club de la Llagosta es desplaçarà aquest cap de setmana a la pista del Llinars. Els de la nostra localitat van patir la jornada passada una nova derrota en perdre contra el líder, el Cardedeu, per 58 a 76.
URI:https://www.llagosta.cat/actualitat/noticies/el-senior-de-lebc-jugara-contra-el-llinars-despres-de-perdre-a-casa-amb-el-lider.html
CLASS:PUBLIC
END:VEVENT
END:VCALENDAR
