BEGIN:VCALENDAR
VERSION:2.0
CALSCALE:GREGORIAN
PRODID:-//Diputació de Barcelona//DibaCMS//EN
BEGIN:VEVENT
UID:5766
DTSTAMP:20260423T021200
DTSTART:20130201T000000
DTEND:20140201T000000
SUMMARY:El col·lectiu que porta Can Piella farà diumenge una jornada de portes obertes
LOCATION:
METHOD:PUBLISH
X-WR-CALNAME:llagosta@llagosta.cat
X-WR-TIMEZONE:Europe/Madrid
DESCRIPTION:Diumenge, tindrà lloc una jornada de portes obertes a Can Piella per tal que tothom que vulgui pugui veure les propostes que es porten a terme en aquesta masia, ubicada al terme municipal de Montcada i Reixac, però molt a prop de la Llagosta. Durant tot el dia, s'hi organitzaran diferents activitats. 
URI:https://www.llagosta.cat/actualitat/noticies/el-collectiu-que-porta-can-piella-fara-diumenge-una-jornada-de-portes-obertes.html
CLASS:PUBLIC
END:VEVENT
END:VCALENDAR
