BEGIN:VCALENDAR
VERSION:2.0
CALSCALE:GREGORIAN
PRODID:-//Diputació de Barcelona//DibaCMS//EN
BEGIN:VEVENT
UID:5765
DTSTAMP:20260423T015345
DTSTART:20130201T000000
DTEND:20140221T000000
SUMMARY:El Casal Infantil de la Llagosta prepara el Carnaval amb una activitat a la Biblioteca
LOCATION:
METHOD:PUBLISH
X-WR-CALNAME:llagosta@llagosta.cat
X-WR-TIMEZONE:Europe/Madrid
DESCRIPTION:L'espai infantil de la Biblioteca va acollir ahir un taller de manualitats per preparar el Carnaval. L'activitat va ser dirigida pels monitors del Casal Infantil dins del programa d'activitats Casal Obert.
URI:https://www.llagosta.cat/actualitat/noticies/el-casal-infantil-de-la-llagosta-prepara-el-carnaval-amb-una-activitat-a-la-biblioteca.html
CLASS:PUBLIC
END:VEVENT
END:VCALENDAR
