BEGIN:VCALENDAR
VERSION:2.0
CALSCALE:GREGORIAN
PRODID:-//Diputació de Barcelona//DibaCMS//EN
BEGIN:VEVENT
UID:5764
DTSTAMP:20260423T015957
DTSTART:20130131T000000
DTEND:20140131T000000
SUMMARY:El ple aprovarà avui una declaració reconeixent la trajectòria d'Antonio García
LOCATION:
METHOD:PUBLISH
X-WR-CALNAME:llagosta@llagosta.cat
X-WR-TIMEZONE:Europe/Madrid
DESCRIPTION:El ple de l'Ajuntament de la Llagosta aprovarà aquesta tarda per assentiment una declaració institucional reconeixent els èxits esportius d'Antonio García Robledo, campió del món d'handbol amb la selecció espanyola. A més, la declaració demanarà que el Pavelló Riera Seca passi a portar el nom de l'esportista llagostenc.
URI:https://www.llagosta.cat/actualitat/noticies/el-ple-aprovara-avui-una-declaracio-reconeixent-la-trajectoria-dantonio-garcia.html
CLASS:PUBLIC
END:VEVENT
END:VCALENDAR
