BEGIN:VCALENDAR
VERSION:2.0
CALSCALE:GREGORIAN
PRODID:-//Diputació de Barcelona//DibaCMS//EN
BEGIN:VEVENT
UID:5763
DTSTAMP:20260423T000710
DTSTART:20130131T000000
DTEND:20140131T000000
SUMMARY:Demà, xerrada al Centre Cultural sobre la Llei d'Estrangeria organitzada pel Consistori
LOCATION:
METHOD:PUBLISH
X-WR-CALNAME:llagosta@llagosta.cat
X-WR-TIMEZONE:Europe/Madrid
DESCRIPTION:L'Ajuntament de la Llagosta organitzarà demà una xerrada sobre la Llei d'Estrangeria. L'acte servirà per tractar sobre el reglament que desenvolupa aquesta llei, i els drets i les llibertats dels estrangers a Espanya, a més de les seves obligacions. La xerrada es farà demà a les 18 hores al Centre Cultural. 
URI:https://www.llagosta.cat/actualitat/noticies/dema-xerrada-al-centre-cultural-sobre-la-llei-destrangeria-organitzada-pel-consistori.html
CLASS:PUBLIC
END:VEVENT
END:VCALENDAR
