BEGIN:VCALENDAR
VERSION:2.0
CALSCALE:GREGORIAN
PRODID:-//Diputació de Barcelona//DibaCMS//EN
BEGIN:VEVENT
UID:5762
DTSTAMP:20260423T222412
DTSTART:20130131T000000
DTEND:20140131T000000
SUMMARY:El CD La Concòrdia encaixa a la pista de l'Arrels-Penya Solsona la segona derrota
LOCATION:
METHOD:PUBLISH
X-WR-CALNAME:llagosta@llagosta.cat
X-WR-TIMEZONE:Europe/Madrid
DESCRIPTION:El Club Deportivo La Concòrdia va perdre el cap de setmana passat a la pista de l'Arrels-Penya Solsona per 2 a 1. Alba va avançar el conjunt llagostenc al minut 15, però, a la segona part, l'Arrels li va donar la volta al marcador.
URI:https://www.llagosta.cat/actualitat/noticies/el-cd-la-concordia-encaixa-a-la-pista-de-larrels-penya-solsona-la-segona-derrota.html
CLASS:PUBLIC
END:VEVENT
END:VCALENDAR
