BEGIN:VCALENDAR
VERSION:2.0
CALSCALE:GREGORIAN
PRODID:-//Diputació de Barcelona//DibaCMS//EN
BEGIN:VEVENT
UID:5761
DTSTAMP:20260423T035603
DTSTART:20130130T000000
DTEND:20140130T000000
SUMMARY:Tots els grups municipals, satisfets amb la decisió del Suprem sobre Can Milans
LOCATION:
METHOD:PUBLISH
X-WR-CALNAME:llagosta@llagosta.cat
X-WR-TIMEZONE:Europe/Madrid
DESCRIPTION:Tots els grups municipals de l'Ajuntament de la Llagosta s'han mostrat satisfets amb la desestimació per part del Tribunal Suprem del recurs de cassació presentat per la Generalitat de Catalunya i l'empresa Barnices Valentine contra la nul·litat de la requalificació dels terrenys de Can Milans de zona verda a sòl industrial.
URI:https://www.llagosta.cat/actualitat/noticies/tots-els-grups-municipals-satisfets-amb-la-decisio-del-suprem-sobre-can-milans.html
CLASS:PUBLIC
END:VEVENT
END:VCALENDAR
