BEGIN:VCALENDAR
VERSION:2.0
CALSCALE:GREGORIAN
PRODID:-//Diputació de Barcelona//DibaCMS//EN
BEGIN:VEVENT
UID:5760
DTSTAMP:20260423T131033
DTSTART:20130130T000000
DTEND:20140130T000000
SUMMARY:El conjunt sènior del Joventut Handbol La Llagosta guanya el Santpedor (36-15)
LOCATION:
METHOD:PUBLISH
X-WR-CALNAME:llagosta@llagosta.cat
X-WR-TIMEZONE:Europe/Madrid
DESCRIPTION:El sènior del Joventut Handbol La Llagosta va vèncer el cap de setmana passat el segon classificat, el Santpedor, per un clar 36 a 15. Aquesta nova victòria permet als llagostencs ampliar el seu avantatge a la taula fins als sis punts i mantenir-se com a únic equip del grup 1 de la Tercera Catalana que ha guanyat tots els partits.
URI:https://www.llagosta.cat/actualitat/noticies/el-conjunt-senior-del-joventut-handbol-la-llagosta-guanya-el-santpedor-36-15.html
CLASS:PUBLIC
END:VEVENT
END:VCALENDAR
